Package: SCnorm Version: 1.28.0 Command: /home/biocbuild/R/R/bin/R CMD build --keep-empty-dirs --no-resave-data SCnorm StartedAt: 2025-02-04 02:45:19 -0000 (Tue, 04 Feb 2025) EndedAt: 2025-02-04 02:48:11 -0000 (Tue, 04 Feb 2025) EllapsedTime: 172.2 seconds RetCode: 0 Status: OK PackageFile: SCnorm_1.28.0.tar.gz PackageFileSize: 2.966 MiB