Package: SDAMS Version: 1.26.0 Command: rm -rf SDAMS.buildbin-libdir && mkdir SDAMS.buildbin-libdir && /Users/biocbuild/BBS/utils/build-universal.sh SDAMS_1.26.0.tar.gz /Library/Frameworks/R.framework/Resources/bin/R SDAMS.buildbin-libdir StartedAt: 2025-02-01 16:50:47 -0500 (Sat, 01 Feb 2025) EndedAt: 2025-02-01 16:51:24 -0500 (Sat, 01 Feb 2025) EllapsedTime: 37.1 seconds RetCode: 0 Status: OK PackageFile: SDAMS_1.26.0.tgz PackageFileSize: 1.104 MiB