Package: SDAMS Version: 1.26.0 Command: /Library/Frameworks/R.framework/Resources/bin/R CMD build --keep-empty-dirs --no-resave-data SDAMS StartedAt: 2025-01-31 07:48:03 -0500 (Fri, 31 Jan 2025) EndedAt: 2025-01-31 07:48:56 -0500 (Fri, 31 Jan 2025) EllapsedTime: 52.8 seconds RetCode: 0 Status: OK PackageFile: SDAMS_1.26.0.tar.gz PackageFileSize: 1.28 MiB