Package: SDAMS Version: 1.26.0 Command: chmod a+r SDAMS -R && F:\biocbuild\bbs-3.20-bioc\R\bin\R.exe CMD build --keep-empty-dirs --no-resave-data SDAMS StartedAt: 2025-01-30 21:47:10 -0500 (Thu, 30 Jan 2025) EndedAt: 2025-01-30 21:48:40 -0500 (Thu, 30 Jan 2025) EllapsedTime: 90.5 seconds RetCode: 0 Status: OK PackageFile: SDAMS_1.26.0.tar.gz PackageFileSize: 1.144 MiB