Package: SEtools Version: 1.20.0 Command: /Library/Frameworks/R.framework/Resources/bin/R CMD check --install=check:SEtools.install-out.txt --library=/Library/Frameworks/R.framework/Resources/library --no-vignettes --timings SEtools_1.20.0.tar.gz StartedAt: 2025-02-05 10:02:49 -0500 (Wed, 05 Feb 2025) EndedAt: 2025-02-05 10:07:19 -0500 (Wed, 05 Feb 2025) EllapsedTime: 270.3 seconds RetCode: 0 Status: OK CheckDir: SEtools.Rcheck Warnings: 0