Package: SEtools Version: 1.20.0 Command: rm -rf SEtools.buildbin-libdir && mkdir SEtools.buildbin-libdir && /Users/biocbuild/BBS/utils/build-universal.sh SEtools_1.20.0.tar.gz /Library/Frameworks/R.framework/Resources/bin/R SEtools.buildbin-libdir StartedAt: 2025-01-31 13:42:11 -0500 (Fri, 31 Jan 2025) EndedAt: 2025-01-31 13:43:15 -0500 (Fri, 31 Jan 2025) EllapsedTime: 64.7 seconds RetCode: 0 Status: OK PackageFile: SEtools_1.20.0.tgz PackageFileSize: 376.2 KiB