Package: SEtools Version: 1.20.0 Command: /Library/Frameworks/R.framework/Resources/bin/R CMD build --keep-empty-dirs --no-resave-data SEtools StartedAt: 2025-02-03 22:18:43 -0500 (Mon, 03 Feb 2025) EndedAt: 2025-02-03 22:20:14 -0500 (Mon, 03 Feb 2025) EllapsedTime: 91.4 seconds RetCode: 0 Status: OK PackageFile: SEtools_1.20.0.tar.gz PackageFileSize: 537.6 KiB