Package: SEtools Version: 1.20.0 Command: /Library/Frameworks/R.framework/Resources/bin/R CMD INSTALL SEtools StartedAt: 2025-02-03 16:42:41 -0500 (Mon, 03 Feb 2025) EndedAt: 2025-02-03 16:43:45 -0500 (Mon, 03 Feb 2025) EllapsedTime: 63.3 seconds RetCode: 0 Status: OK