Package: SEtools
Version: 1.19.0
Command: chmod a+r SEtools -R && F:\biocbuild\bbs-3.20-bioc\R\bin\R.exe CMD build --keep-empty-dirs --no-resave-data SEtools
StartedAt: 2024-06-09 22:17:53 -0400 (Sun, 09 Jun 2024)
EndedAt: 2024-06-09 22:19:52 -0400 (Sun, 09 Jun 2024)
EllapsedTime: 119.4 seconds
RetCode: 0
Status: OK
PackageFile: SEtools_1.19.0.tar.gz
PackageFileSize: 509.9 <A href="http://en.wikipedia.org/wiki/KiB" target="_blank">KiB</A>