Package: SEtools Version: 1.20.0 Command: /home/biocbuild/R/R/bin/R CMD build --keep-empty-dirs --no-resave-data SEtools StartedAt: 2025-02-04 02:58:17 -0000 (Tue, 04 Feb 2025) EndedAt: 2025-02-04 02:59:32 -0000 (Tue, 04 Feb 2025) EllapsedTime: 75.1 seconds RetCode: 0 Status: OK PackageFile: SEtools_1.20.0.tar.gz PackageFileSize: 527.5 KiB