Package: SGSeq Version: 1.40.0 Command: /Library/Frameworks/R.framework/Resources/bin/R CMD build --keep-empty-dirs --no-resave-data SGSeq StartedAt: 2025-02-04 08:11:16 -0500 (Tue, 04 Feb 2025) EndedAt: 2025-02-04 08:14:42 -0500 (Tue, 04 Feb 2025) EllapsedTime: 206.2 seconds RetCode: 0 Status: OK PackageFile: SGSeq_1.40.0.tar.gz PackageFileSize: 1.747 MiB