Package: SGSeq Version: 1.40.0 Command: /Library/Frameworks/R.framework/Resources/bin/R CMD build --keep-empty-dirs --no-resave-data SGSeq StartedAt: 2025-02-03 22:19:02 -0500 (Mon, 03 Feb 2025) EndedAt: 2025-02-03 22:26:10 -0500 (Mon, 03 Feb 2025) EllapsedTime: 428.2 seconds RetCode: 0 Status: OK PackageFile: SGSeq_1.40.0.tar.gz PackageFileSize: 1.747 MiB