Package: SGSeq Version: 1.40.0 Command: /Library/Frameworks/R.framework/Resources/bin/R CMD check --install=check:SGSeq.install-out.txt --library=/Library/Frameworks/R.framework/Resources/library --no-vignettes --timings SGSeq_1.40.0.tar.gz StartedAt: 2025-02-04 10:07:51 -0500 (Tue, 04 Feb 2025) EndedAt: 2025-02-04 10:28:37 -0500 (Tue, 04 Feb 2025) EllapsedTime: 1245.2 seconds RetCode: 0 Status: OK CheckDir: SGSeq.Rcheck Warnings: 0