Package: SGSeq
Version: 1.40.0
Command: /home/biocbuild/R/R/bin/R CMD check --install=check:SGSeq.install-out.txt --library=/home/biocbuild/R/R/site-library --no-vignettes --timings SGSeq_1.40.0.tar.gz
StartedAt: 2025-02-18 11:08:26 -0000 (Tue, 18 Feb 2025)
EndedAt: 2025-02-18 11:20:19 -0000 (Tue, 18 Feb 2025)
EllapsedTime: 712.9 seconds
RetCode: 0
Status: OK
CheckDir: SGSeq.Rcheck
Warnings: 0