Package: SIAMCAT Version: 2.10.0 Command: rm -rf SIAMCAT.buildbin-libdir && mkdir SIAMCAT.buildbin-libdir && /Users/biocbuild/BBS/utils/build-universal.sh SIAMCAT_2.10.0.tar.gz /Library/Frameworks/R.framework/Resources/bin/R SIAMCAT.buildbin-libdir StartedAt: 2025-02-05 17:49:14 -0500 (Wed, 05 Feb 2025) EndedAt: 2025-02-05 17:49:54 -0500 (Wed, 05 Feb 2025) EllapsedTime: 39.4 seconds RetCode: 0 Status: OK PackageFile: SIAMCAT_2.10.0.tgz PackageFileSize: 10.76 MiB