Package: SIAMCAT Version: 2.10.0 Command: /Library/Frameworks/R.framework/Resources/bin/R CMD build --keep-empty-dirs --no-resave-data SIAMCAT StartedAt: 2025-02-04 08:14:18 -0500 (Tue, 04 Feb 2025) EndedAt: 2025-02-04 08:17:43 -0500 (Tue, 04 Feb 2025) EllapsedTime: 205.0 seconds RetCode: 0 Status: OK PackageFile: SIAMCAT_2.10.0.tar.gz PackageFileSize: 18.86 MiB