Package: SIAMCAT Version: 2.10.0 Command: /Library/Frameworks/R.framework/Resources/bin/R CMD INSTALL SIAMCAT StartedAt: 2025-02-03 17:25:47 -0500 (Mon, 03 Feb 2025) EndedAt: 2025-02-03 17:26:20 -0500 (Mon, 03 Feb 2025) EllapsedTime: 33.1 seconds RetCode: 0 Status: OK