Package: SIAMCAT
Version: 2.10.0
Command: /Library/Frameworks/R.framework/Resources/bin/R CMD build --keep-empty-dirs --no-resave-data SIAMCAT
StartedAt: 2024-11-19 18:41:25 -0500 (Tue, 19 Nov 2024)
EndedAt: 2024-11-19 18:45:24 -0500 (Tue, 19 Nov 2024)
EllapsedTime: 238.4 seconds
RetCode: 0
Status: OK
PackageFile: SIAMCAT_2.10.0.tar.gz
PackageFileSize: 18.86 <A href="http://en.wikipedia.org/wiki/MiB" target="_blank">MiB</A>