Package: SIAMCAT Version: 2.10.0 Command: /Library/Frameworks/R.framework/Resources/bin/R CMD INSTALL SIAMCAT StartedAt: 2025-02-03 16:27:48 -0500 (Mon, 03 Feb 2025) EndedAt: 2025-02-03 16:28:52 -0500 (Mon, 03 Feb 2025) EllapsedTime: 63.9 seconds RetCode: 0 Status: OK