Package: SIAMCAT Version: 2.10.0 Command: F:\biocbuild\bbs-3.20-bioc\R\bin\R.exe CMD INSTALL SIAMCAT StartedAt: 2025-02-03 16:14:54 -0500 (Mon, 03 Feb 2025) EndedAt: 2025-02-03 16:16:23 -0500 (Mon, 03 Feb 2025) EllapsedTime: 89.1 seconds RetCode: 0 Status: OK