Package: SIAMCAT Version: 2.10.0 Command: /home/biocbuild/R/R/bin/R CMD build --keep-empty-dirs --no-resave-data SIAMCAT StartedAt: 2025-02-04 02:59:32 -0000 (Tue, 04 Feb 2025) EndedAt: 2025-02-04 03:04:52 -0000 (Tue, 04 Feb 2025) EllapsedTime: 320.5 seconds RetCode: 0 Status: OK PackageFile: SIAMCAT_2.10.0.tar.gz PackageFileSize: 18.63 MiB