Package: SIAMCAT Version: 2.10.0 Command: /home/biocbuild/R/R/bin/R CMD check --install=check:SIAMCAT.install-out.txt --library=/home/biocbuild/R/R/site-library --no-vignettes --timings SIAMCAT_2.10.0.tar.gz StartedAt: 2025-02-04 11:04:35 -0000 (Tue, 04 Feb 2025) EndedAt: 2025-02-04 11:10:08 -0000 (Tue, 04 Feb 2025) EllapsedTime: 333.5 seconds RetCode: 0 Status: OK CheckDir: SIAMCAT.Rcheck Warnings: 0