Package: SIAMCAT Version: 2.10.0 Command: /home/biocbuild/R/R/bin/R CMD INSTALL SIAMCAT StartedAt: 2025-02-03 21:10:36 -0000 (Mon, 03 Feb 2025) EndedAt: 2025-02-03 21:11:12 -0000 (Mon, 03 Feb 2025) EllapsedTime: 36.2 seconds RetCode: 0 Status: OK