Package: SICtools Version: 1.36.0 Command: rm -rf SICtools.buildbin-libdir && mkdir SICtools.buildbin-libdir && /Users/biocbuild/BBS/utils/build-universal.sh SICtools_1.36.0.tar.gz /Library/Frameworks/R.framework/Resources/bin/R SICtools.buildbin-libdir StartedAt: 2025-02-01 16:54:22 -0500 (Sat, 01 Feb 2025) EndedAt: 2025-02-01 16:55:05 -0500 (Sat, 01 Feb 2025) EllapsedTime: 43.1 seconds RetCode: 0 Status: OK PackageFile: SICtools_1.36.0.tgz PackageFileSize: 1.31 MiB