Package: SICtools Version: 1.36.0 Command: /Library/Frameworks/R.framework/Resources/bin/R CMD check --install=check:SICtools.install-out.txt --library=/Library/Frameworks/R.framework/Resources/library --no-vignettes --timings SICtools_1.36.0.tar.gz StartedAt: 2025-02-01 09:21:57 -0500 (Sat, 01 Feb 2025) EndedAt: 2025-02-01 09:23:51 -0500 (Sat, 01 Feb 2025) EllapsedTime: 114.2 seconds RetCode: 0 Status: WARNINGS CheckDir: SICtools.Rcheck Warnings: 1