Package: SICtools Version: 1.36.0 Command: rm -rf SICtools.buildbin-libdir && mkdir SICtools.buildbin-libdir && /Users/biocbuild/BBS/utils/build-universal.sh SICtools_1.36.0.tar.gz /Library/Frameworks/R.framework/Resources/bin/R SICtools.buildbin-libdir StartedAt: 2025-01-31 13:42:38 -0500 (Fri, 31 Jan 2025) EndedAt: 2025-01-31 13:43:50 -0500 (Fri, 31 Jan 2025) EllapsedTime: 71.7 seconds RetCode: 0 Status: OK PackageFile: SICtools_1.36.0.tgz PackageFileSize: 1.329 MiB