Package: SICtools Version: 1.36.0 Command: /Library/Frameworks/R.framework/Resources/bin/R CMD check --install=check:SICtools.install-out.txt --library=/Library/Frameworks/R.framework/Resources/library --no-vignettes --timings SICtools_1.36.0.tar.gz StartedAt: 2025-01-31 10:06:02 -0500 (Fri, 31 Jan 2025) EndedAt: 2025-01-31 10:09:28 -0500 (Fri, 31 Jan 2025) EllapsedTime: 206.5 seconds RetCode: 0 Status: WARNINGS CheckDir: SICtools.Rcheck Warnings: 1