Package: SICtools Version: 1.36.0 Command: /home/biocbuild/R/R/bin/R CMD build --keep-empty-dirs --no-resave-data SICtools StartedAt: 2025-01-31 02:43:28 -0000 (Fri, 31 Jan 2025) EndedAt: 2025-01-31 02:44:29 -0000 (Fri, 31 Jan 2025) EllapsedTime: 61.1 seconds RetCode: 0 Status: OK PackageFile: SICtools_1.36.0.tar.gz PackageFileSize: 1.528 MiB