Package: SICtools Version: 1.36.0 Command: /home/biocbuild/R/R/bin/R CMD INSTALL SICtools StartedAt: 2025-02-03 20:40:24 -0000 (Mon, 03 Feb 2025) EndedAt: 2025-02-03 20:41:11 -0000 (Mon, 03 Feb 2025) EllapsedTime: 46.5 seconds RetCode: 0 Status: OK