Package: SIM Version: 1.76.0 Command: /Library/Frameworks/R.framework/Resources/bin/R CMD build --keep-empty-dirs --no-resave-data SIM StartedAt: 2024-11-19 18:42:22 -0500 (Tue, 19 Nov 2024) EndedAt: 2024-11-19 18:43:09 -0500 (Tue, 19 Nov 2024) EllapsedTime: 46.8 seconds RetCode: 0 Status: OK PackageFile: SIM_1.76.0.tar.gz PackageFileSize: 460.9 KiB