Package: SIM Version: 1.76.0 Command: /home/biocbuild/R/R/bin/R CMD INSTALL SIM StartedAt: 2025-02-03 21:09:16 -0000 (Mon, 03 Feb 2025) EndedAt: 2025-02-03 21:09:40 -0000 (Mon, 03 Feb 2025) EllapsedTime: 23.5 seconds RetCode: 0 Status: OK