Package: SIM
Version: 1.76.0
Command: /home/biocbuild/bbs-3.20-bioc/R/bin/R CMD INSTALL SIM
StartedAt: 2024-11-19 16:46:57 -0500 (Tue, 19 Nov 2024)
EndedAt: 2024-11-19 16:47:13 -0500 (Tue, 19 Nov 2024)
EllapsedTime: 15.5 seconds
RetCode: 0
Status: OK