Package: SIMAT Version: 1.38.0 Command: /Library/Frameworks/R.framework/Resources/bin/R CMD build --keep-empty-dirs --no-resave-data SIMAT StartedAt: 2025-02-04 08:21:14 -0500 (Tue, 04 Feb 2025) EndedAt: 2025-02-04 08:21:40 -0500 (Tue, 04 Feb 2025) EllapsedTime: 26.2 seconds RetCode: 0 Status: OK PackageFile: SIMAT_1.38.0.tar.gz PackageFileSize: 1.038 MiB