Package: SIMAT
Version: 1.38.0
Command: /Library/Frameworks/R.framework/Resources/bin/R CMD check --install=check:SIMAT.install-out.txt --library=/Library/Frameworks/R.framework/Resources/library --no-vignettes --timings SIMAT_1.38.0.tar.gz
StartedAt: 2024-11-20 02:42:23 -0500 (Wed, 20 Nov 2024)
EndedAt: 2024-11-20 02:47:07 -0500 (Wed, 20 Nov 2024)
EllapsedTime: 283.9 seconds
RetCode: 0
Status: OK
CheckDir: SIMAT.Rcheck
Warnings: 0