Package: SIMAT Version: 1.38.0 Command: /home/biocbuild/bbs-3.20-bioc/R/bin/R CMD build --keep-empty-dirs --no-resave-data --md5 SIMAT StartedAt: 2025-02-03 19:20:39 -0500 (Mon, 03 Feb 2025) EndedAt: 2025-02-03 19:20:55 -0500 (Mon, 03 Feb 2025) EllapsedTime: 16.0 seconds RetCode: 0 Status: OK PackageFile: SIMAT_1.38.0.tar.gz PackageFileSize: 1.04 MiB