Package: SIMAT
Version: 1.37.0
Command: chmod a+r SIMAT -R && C:\Users\biocbuild\bbs-3.20-bioc\R\bin\R.exe CMD build --keep-empty-dirs --no-resave-data SIMAT
StartedAt: 2024-07-15 20:53:02 -0400 (Mon, 15 Jul 2024)
EndedAt: 2024-07-15 20:53:28 -0400 (Mon, 15 Jul 2024)
EllapsedTime: 26.8 seconds
RetCode: 0
Status: OK
PackageFile: SIMAT_1.37.0.tar.gz
PackageFileSize: 1002 <A href="http://en.wikipedia.org/wiki/KiB" target="_blank">KiB</A>