Package: SIMD Version: 1.24.0 Command: rm -rf SIMD.buildbin-libdir && mkdir SIMD.buildbin-libdir && /Users/biocbuild/BBS/utils/build-universal.sh SIMD_1.24.0.tar.gz /Library/Frameworks/R.framework/Resources/bin/R SIMD.buildbin-libdir StartedAt: 2025-02-05 17:50:30 -0500 (Wed, 05 Feb 2025) EndedAt: 2025-02-05 17:50:34 -0500 (Wed, 05 Feb 2025) EllapsedTime: 4.5 seconds RetCode: 0 Status: OK PackageFile: SIMD_1.24.0.tgz PackageFileSize: 376.4 KiB