Package: SIMD Version: 1.24.0 Command: /Library/Frameworks/R.framework/Resources/bin/R CMD check --install=check:SIMD.install-out.txt --library=/Library/Frameworks/R.framework/Resources/library --no-vignettes --timings SIMD_1.24.0.tar.gz StartedAt: 2025-02-04 10:14:04 -0500 (Tue, 04 Feb 2025) EndedAt: 2025-02-04 10:14:51 -0500 (Tue, 04 Feb 2025) EllapsedTime: 47.0 seconds RetCode: 0 Status: OK CheckDir: SIMD.Rcheck Warnings: 0