Package: SIMD Version: 1.24.0 Command: /home/biocbuild/bbs-3.20-bioc/R/bin/R CMD INSTALL SIMD StartedAt: 2025-02-03 15:17:38 -0500 (Mon, 03 Feb 2025) EndedAt: 2025-02-03 15:17:58 -0500 (Mon, 03 Feb 2025) EllapsedTime: 20.4 seconds RetCode: 0 Status: OK