Package: SIMD Version: 1.24.0 Command: chmod a+r SIMD -R && F:\biocbuild\bbs-3.20-bioc\R\bin\R.exe CMD build --keep-empty-dirs --no-resave-data SIMD StartedAt: 2025-02-03 22:10:52 -0500 (Mon, 03 Feb 2025) EndedAt: 2025-02-03 22:11:10 -0500 (Mon, 03 Feb 2025) EllapsedTime: 17.2 seconds RetCode: 0 Status: OK PackageFile: SIMD_1.24.0.tar.gz PackageFileSize: 333 KiB