Package: SIMD Version: 1.24.0 Command: /home/biocbuild/R/R/bin/R CMD check --install=check:SIMD.install-out.txt --library=/home/biocbuild/R/R/site-library --no-vignettes --timings SIMD_1.24.0.tar.gz StartedAt: 2025-02-04 11:07:34 -0000 (Tue, 04 Feb 2025) EndedAt: 2025-02-04 11:07:55 -0000 (Tue, 04 Feb 2025) EllapsedTime: 21.0 seconds RetCode: 0 Status: OK CheckDir: SIMD.Rcheck Warnings: 0