Package: SIMD Version: 1.24.0 Command: /home/biocbuild/R/R/bin/R CMD INSTALL SIMD StartedAt: 2025-02-03 20:27:41 -0000 (Mon, 03 Feb 2025) EndedAt: 2025-02-03 20:28:01 -0000 (Mon, 03 Feb 2025) EllapsedTime: 20.4 seconds RetCode: 0 Status: OK