Package: SIMLR Version: 1.32.0 Command: /Library/Frameworks/R.framework/Resources/bin/R CMD build --keep-empty-dirs --no-resave-data SIMLR StartedAt: 2025-02-04 08:22:13 -0500 (Tue, 04 Feb 2025) EndedAt: 2025-02-04 08:24:51 -0500 (Tue, 04 Feb 2025) EllapsedTime: 158.5 seconds RetCode: 0 Status: OK PackageFile: SIMLR_1.32.0.tar.gz PackageFileSize: 4.095 MiB