Package: SIMLR Version: 1.32.0 Command: /Library/Frameworks/R.framework/Resources/bin/R CMD check --install=check:SIMLR.install-out.txt --library=/Library/Frameworks/R.framework/Resources/library --no-vignettes --timings SIMLR_1.32.0.tar.gz StartedAt: 2025-02-05 10:21:47 -0500 (Wed, 05 Feb 2025) EndedAt: 2025-02-05 10:27:35 -0500 (Wed, 05 Feb 2025) EllapsedTime: 348.8 seconds RetCode: 0 Status: OK CheckDir: SIMLR.Rcheck Warnings: 0