Package: SIMLR Version: 1.32.0 Command: /Library/Frameworks/R.framework/Resources/bin/R CMD INSTALL SIMLR StartedAt: 2025-02-03 15:16:56 -0500 (Mon, 03 Feb 2025) EndedAt: 2025-02-03 15:17:55 -0500 (Mon, 03 Feb 2025) EllapsedTime: 58.8 seconds RetCode: 0 Status: OK