Package: SIMLR
Version: 1.32.0
Command: /home/biocbuild/bbs-3.20-bioc/R/bin/R CMD build --keep-empty-dirs --no-resave-data --md5 SIMLR
StartedAt: 2025-02-17 19:06:58 -0500 (Mon, 17 Feb 2025)
EndedAt: 2025-02-17 19:08:43 -0500 (Mon, 17 Feb 2025)
EllapsedTime: 104.1 seconds
RetCode: 0
Status: OK
PackageFile: SIMLR_1.32.0.tar.gz
PackageFileSize: 4.122 <A href="http://en.wikipedia.org/wiki/MiB" target="_blank">MiB</A>