Package: SIMLR Version: 1.32.0 Command: rm -rf SIMLR.buildbin-libdir && mkdir SIMLR.buildbin-libdir && F:\biocbuild\bbs-3.20-bioc\R\bin\R.exe CMD INSTALL --build --library=SIMLR.buildbin-libdir SIMLR_1.32.0.tar.gz StartedAt: 2025-02-04 09:32:32 -0500 (Tue, 04 Feb 2025) EndedAt: 2025-02-04 09:33:10 -0500 (Tue, 04 Feb 2025) EllapsedTime: 38.3 seconds RetCode: 0 Status: OK PackageFile: SIMLR_1.32.0.zip PackageFileSize: 4.342 MiB