Package: SIMLR Version: 1.32.0 Command: chmod a+r SIMLR -R && F:\biocbuild\bbs-3.20-bioc\R\bin\R.exe CMD build --keep-empty-dirs --no-resave-data SIMLR StartedAt: 2025-02-03 22:11:06 -0500 (Mon, 03 Feb 2025) EndedAt: 2025-02-03 22:13:52 -0500 (Mon, 03 Feb 2025) EllapsedTime: 165.3 seconds RetCode: 0 Status: OK PackageFile: SIMLR_1.32.0.tar.gz PackageFileSize: 3.911 MiB