Package: SLqPCR Version: 1.72.0 Command: rm -rf SLqPCR.buildbin-libdir && mkdir SLqPCR.buildbin-libdir && /Users/biocbuild/BBS/utils/build-universal.sh SLqPCR_1.72.0.tar.gz /Library/Frameworks/R.framework/Resources/bin/R SLqPCR.buildbin-libdir StartedAt: 2025-02-01 16:58:20 -0500 (Sat, 01 Feb 2025) EndedAt: 2025-02-01 16:58:23 -0500 (Sat, 01 Feb 2025) EllapsedTime: 3.4 seconds RetCode: 0 Status: OK PackageFile: SLqPCR_1.72.0.tgz PackageFileSize: 236 KiB