Package: SLqPCR Version: 1.72.0 Command: /Library/Frameworks/R.framework/Resources/bin/R CMD build --keep-empty-dirs --no-resave-data SLqPCR StartedAt: 2025-01-31 08:22:55 -0500 (Fri, 31 Jan 2025) EndedAt: 2025-01-31 08:23:04 -0500 (Fri, 31 Jan 2025) EllapsedTime: 8.9 seconds RetCode: 0 Status: OK PackageFile: SLqPCR_1.72.0.tar.gz PackageFileSize: 220.7 KiB